BEGIN:VCALENDAR
VERSION:2.0
PRODID:-//Skara Bågskytteklubb - ECPv6.15.20//NONSGML v1.0//EN
CALSCALE:GREGORIAN
METHOD:PUBLISH
X-WR-CALNAME:Skara Bågskytteklubb
X-ORIGINAL-URL:https://skarabagskytteklubb.se
X-WR-CALDESC:Händelser för Skara Bågskytteklubb
REFRESH-INTERVAL;VALUE=DURATION:PT1H
X-Robots-Tag:noindex
X-PUBLISHED-TTL:PT1H
BEGIN:VTIMEZONE
TZID:Europe/Stockholm
BEGIN:DAYLIGHT
TZOFFSETFROM:+0100
TZOFFSETTO:+0200
TZNAME:CEST
DTSTART:20250330T010000
END:DAYLIGHT
BEGIN:STANDARD
TZOFFSETFROM:+0200
TZOFFSETTO:+0100
TZNAME:CET
DTSTART:20251026T010000
END:STANDARD
BEGIN:DAYLIGHT
TZOFFSETFROM:+0100
TZOFFSETTO:+0200
TZNAME:CEST
DTSTART:20260329T010000
END:DAYLIGHT
BEGIN:STANDARD
TZOFFSETFROM:+0200
TZOFFSETTO:+0100
TZNAME:CET
DTSTART:20261025T010000
END:STANDARD
BEGIN:DAYLIGHT
TZOFFSETFROM:+0100
TZOFFSETTO:+0200
TZNAME:CEST
DTSTART:20270328T010000
END:DAYLIGHT
BEGIN:STANDARD
TZOFFSETFROM:+0200
TZOFFSETTO:+0100
TZNAME:CET
DTSTART:20271031T010000
END:STANDARD
END:VTIMEZONE
BEGIN:VEVENT
DTSTART;TZID=Europe/Stockholm:20260607T110000
DTEND;TZID=Europe/Stockholm:20260607T140000
DTSTAMP:20260424T170028
CREATED:20260325T095408Z
LAST-MODIFIED:20260325T095408Z
UID:9120-1780830000-1780840800@skarabagskytteklubb.se
SUMMARY:Sommaravslutning
DESCRIPTION:Plats:\nBågskyttebanan. Bågskyttebanan ligger vid Street Stars Cruisers klubblokaler (Skjutbanevägen 1\, 532 37 Skara). Google Maps länk till skyttebanan hittar ni här: https://goo.gl/maps/hhgPVBoaSi17WA8d9. Välkomna! \nTider:\nNybörjararträning & bokad prova på: 11:00-14:00 \nSkyttar under 11 behöver ha med en målsman. \n 
URL:https://skarabagskytteklubb.se/calendar/sommaravslutning/
CATEGORIES:Träning
END:VEVENT
BEGIN:VEVENT
DTSTART;TZID=Europe/Stockholm:20260626T120000
DTEND;TZID=Europe/Stockholm:20260628T150000
DTSTAMP:20260424T170028
CREATED:20260325T075720Z
LAST-MODIFIED:20260330T175045Z
UID:9105-1782475200-1782658800@skarabagskytteklubb.se
SUMMARY:Skara Archery Camp
DESCRIPTION:Plats:\nSkara Archery Camp äger rum på Vilans fritidsområde i Skara.\nMer information hittar ni här: https://skarabagskytteklubb.se/camp/ \nTider:\n\n\n\n Dag 1 \n09.00–12.00 Ankomst & incheckning\n12.00–13.00 Lunch\n13.00–17.00 Introduktion & träning\n17.00–18.00 Middag\n18.00–22.00 Flextid* med kvällsmål \n\n\n\n\n Dag 2 \n08.00–09.00 Frukost\n09.00–12.00 Träning (bl.a. matchskytte)\n12.00–13.00 Lunch\n13.00–19.00 Skara Sommarland (inkl. middag)\n19.00–19.30 Hemresa\n19.30–22.00 Flextid* med kvällsmål \n\n\n\n\n Dag 3 \n08.00–09.00 Frukost\n09.00–12.00 Träning & teori\n12.00–13.00 Lunch & avslutning\n13.00–15.00 Frivilig tävling\, träning\, lek \n\n\n\nAvgifter:\n1950.00 kr \n  \n 
URL:https://skarabagskytteklubb.se/calendar/skara-archery-camp-2/
CATEGORIES:Events
END:VEVENT
END:VCALENDAR