BEGIN:VCALENDAR
VERSION:2.0
PRODID:-//Skara Bågskytteklubb - ECPv6.15.20//NONSGML v1.0//EN
CALSCALE:GREGORIAN
METHOD:PUBLISH
X-ORIGINAL-URL:https://skarabagskytteklubb.se
X-WR-CALDESC:Händelser för Skara Bågskytteklubb
REFRESH-INTERVAL;VALUE=DURATION:PT1H
X-Robots-Tag:noindex
X-PUBLISHED-TTL:PT1H
BEGIN:VTIMEZONE
TZID:Europe/Stockholm
BEGIN:DAYLIGHT
TZOFFSETFROM:+0100
TZOFFSETTO:+0200
TZNAME:CEST
DTSTART:20250330T010000
END:DAYLIGHT
BEGIN:STANDARD
TZOFFSETFROM:+0200
TZOFFSETTO:+0100
TZNAME:CET
DTSTART:20251026T010000
END:STANDARD
BEGIN:DAYLIGHT
TZOFFSETFROM:+0100
TZOFFSETTO:+0200
TZNAME:CEST
DTSTART:20260329T010000
END:DAYLIGHT
BEGIN:STANDARD
TZOFFSETFROM:+0200
TZOFFSETTO:+0100
TZNAME:CET
DTSTART:20261025T010000
END:STANDARD
BEGIN:DAYLIGHT
TZOFFSETFROM:+0100
TZOFFSETTO:+0200
TZNAME:CEST
DTSTART:20270328T010000
END:DAYLIGHT
BEGIN:STANDARD
TZOFFSETFROM:+0200
TZOFFSETTO:+0100
TZNAME:CET
DTSTART:20271031T010000
END:STANDARD
END:VTIMEZONE
BEGIN:VEVENT
DTSTART;TZID=Europe/Stockholm:20260329T110000
DTEND;TZID=Europe/Stockholm:20260329T120000
DTSTAMP:20260424T234731
CREATED:20260108T134003Z
LAST-MODIFIED:20260325T095750Z
UID:8860-1774782000-1774785600@skarabagskytteklubb.se
SUMMARY:Söndagsträning inomhus
DESCRIPTION:Plats:\nMultihallen (Tennisbanorna) som ligger i Vilans fritidsområde (Google maps länk). Kom gärna lite tidigare och hjälp till med att i ordningställa lokalen och spänna bågar.  Vi har en åldersgräns på 10 år.\nViktigt: Man måste ha inneskor \nTider:\nPå grund av årsmöte klockan 12:00 så är det enbart egenträning. Följande tider gäller:\nEgen träning: 11:00-12:00 \nNoteringar:\nTränare är på plats under dagen som hjälper till med teknik\, form och utveckling.\nAnmälan krävs vid prova på\, kontakta skarabagskytteklubb@gmail.com för att boka tid.\n \nAvgifter:\nMedlemar: 0.00 kr \nProva på över 16 år: 100.00 kr (måste boka tid) \nProva på 10 år till 16 år: 0.00 kr (måste boka tid) \nSkyttar under 11 behöver ha med en målsman. \n 
URL:https://skarabagskytteklubb.se/calendar/sondagstraning-inomhus-22/
END:VEVENT
BEGIN:VEVENT
DTSTART;TZID=Europe/Stockholm:20260329T120000
DTEND;TZID=Europe/Stockholm:20260329T140000
DTSTAMP:20260424T234731
CREATED:20260325T075242Z
LAST-MODIFIED:20260325T075242Z
UID:9101-1774785600-1774792800@skarabagskytteklubb.se
SUMMARY:Årsmöte
DESCRIPTION:Plats:\nMultihallen (Tennisbanorna) som ligger i Vilans fritidsområde (Google maps länk).\nViktigt: Man måste ha inneskor eller gå i strumplästen \nTider:\nMötestider: 12:00-14:00 \nInformation:\nSkara Bågskytteklubb kallar sina medlemmar välkomna på Årsmöte söndag 29 mars kl 12 i Multihallen. Vi bjuder på fika! Email med alla handlingar är skickat till alla medlemmar\, hör gärna av er om ni inte har fått så att vi vet att er info är uppdaterad.  \n 
URL:https://skarabagskytteklubb.se/calendar/arsmote-2/
END:VEVENT
END:VCALENDAR